BEGIN:VCALENDAR
VERSION:2.0
PRODID:-//Concordia-Barátság Énekegyesület - ECPv6.10.1.1//NONSGML v1.0//EN
CALSCALE:GREGORIAN
METHOD:PUBLISH
X-ORIGINAL-URL:https://concordiakorus.hu
X-WR-CALDESC:Events for Concordia-Barátság Énekegyesület
REFRESH-INTERVAL;VALUE=DURATION:PT1H
X-Robots-Tag:noindex
X-PUBLISHED-TTL:PT1H
BEGIN:VTIMEZONE
TZID:UTC
BEGIN:STANDARD
TZOFFSETFROM:+0000
TZOFFSETTO:+0000
TZNAME:UTC
DTSTART:20240101T000000
END:STANDARD
END:VTIMEZONE
BEGIN:VEVENT
DTSTART;VALUE=DATE:20241109
DTEND;VALUE=DATE:20241110
DTSTAMP:20260419T200607
CREATED:20241106T181753Z
LAST-MODIFIED:20241106T184448Z
UID:233-1731110400-1731196799@concordiakorus.hu
SUMMARY:Concordia 165.
DESCRIPTION:
URL:https://concordiakorus.hu/event/concordia-165/
LOCATION:Kőszeg\, vas\, 9730\, Hungary
ATTACH;FMTTYPE=image/jpeg:https://concordiakorus.hu/wp-content/uploads/2024/11/464198440_1068263405298766_6245215147447014498_n.jpg
END:VEVENT
END:VCALENDAR